BEGIN:VCALENDAR
VERSION:2.0
PRODID:-//wp-events-plugin.com//7.2.3.1//EN
TZID:Europe/Copenhagen
X-WR-TIMEZONE:Europe/Copenhagen
BEGIN:VEVENT
UID:259@tantrauddannelsen.dk
DTSTART;TZID=Europe/Copenhagen:20250713T170000
DTEND;TZID=Europe/Copenhagen:20250713T173000
DTSTAMP:20250710T114753Z
URL:https://tantrauddannelsen.dk/book-et-mode/online-moede-med-karen-4/
SUMMARY:Online møde med Karen
DESCRIPTION:Book et møde med Karen\, hvis du gerne vil vide mere om uddann
 elsen. Du kan stille spørgsmål\, få uddannelsen uddybet\, og høre mere
  om\, hvad tantra er.
ATTACH;FMTTYPE=image/jpeg:https://tantrauddannelsen.dk/wp-content/uploads/
 2023/09/karen-under-adamsaeble-final-19-scaled.jpg
CATEGORIES:Mødebooking
LOCATION:https://whereby.com/karen-groendahl
END:VEVENT
BEGIN:VTIMEZONE
TZID:Europe/Copenhagen
X-LIC-LOCATION:Europe/Copenhagen
BEGIN:DAYLIGHT
DTSTART:20250330T030000
TZOFFSETFROM:+0100
TZOFFSETTO:+0200
TZNAME:CEST
END:DAYLIGHT
END:VTIMEZONE
END:VCALENDAR