BEGIN:VCALENDAR
VERSION:2.0
PRODID:-//wp-events-plugin.com//7.2.3.1//EN
TZID:Europe/Copenhagen
X-WR-TIMEZONE:Europe/Copenhagen
BEGIN:VEVENT
UID:139@tantrauddannelsen.dk
DTSTART;TZID=Europe/Copenhagen:20250102T160000
DTEND;TZID=Europe/Copenhagen:20250102T163000
DTSTAMP:20241219T132939Z
URL:https://tantrauddannelsen.dk/book-et-mode/online-moede-med-karen/
SUMMARY:Online møde med Karen kl 16:00
DESCRIPTION:Book et møde med Karen\, hvis du gerne vil vide mere om uddann
 elsen. Du kan stille spørgsmål\, få uddannelsen uddybet\, og høre mere
  om\, hvad tantra er.
ATTACH;FMTTYPE=image/jpeg:https://tantrauddannelsen.dk/wp-content/uploads/
 2023/09/karen-under-adamsaeble-final-19-scaled.jpg
CATEGORIES:Mødebooking
LOCATION:https://whereby.com/karen-groendahl
END:VEVENT
BEGIN:VTIMEZONE
TZID:Europe/Copenhagen
X-LIC-LOCATION:Europe/Copenhagen
BEGIN:STANDARD
DTSTART:20241027T020000
TZOFFSETFROM:+0200
TZOFFSETTO:+0100
TZNAME:CET
END:STANDARD
END:VTIMEZONE
END:VCALENDAR